Workbook

Sheet 団体入力
B1: 団体受付名簿
A2: 団体登録 | B2: 通常大会 | Q2: 大会種別
A4: クラス | B4: お名前 | C4: フリガナ | D4: 電話番号 | E4: 生年月日 | F4: 年齢 | G4: 郵便番号 | H4: 住所 | I4: メールアドレス | J4: 学校名 | K4: 棋力 | L4: 料金区分 | M4: 順位戦クラス | N4: 参加費 | O4: 保護者氏名 | P4: 備考 | Q4: No. | R4: 指導対局希望
F5: =IF(E5="","",DATEDIF(E5,TODAY(),"Y")) | N5: =IF(L5="","",IF(L5="高校生以下",1000,IF(OR(L5="大学生",L5="身障者",L5="75歳以上"),1500,IF(AND(L5="一般",$B$2="定期順位戦",A5="C級"),1500,IF(AND(L5="一般",OR($B$2="竜王戦",$B$2="名人戦")),2500,IF(L5="一般",2000,"")))))) | Q5: 2
F6: =IF(E6="","",DATEDIF(E6,TODAY(),"Y")) | N6: =IF(L6="","",IF(L6="高校生以下",1000,IF(OR(L6="大学生",L6="身障者",L6="75歳以上"),1500,IF(AND(L6="一般",$B$2="定期順位戦",A6="C級"),1500,IF(AND(L6="一般",OR($B$2="竜王戦",$B$2="名人戦")),2500,IF(L6="一般",2000,"")))))) | Q6: 3
F7: =IF(E7="","",DATEDIF(E7,TODAY(),"Y")) | N7: =IF(L7="","",IF(L7="高校生以下",1000,IF(OR(L7="大学生",L7="身障者",L7="75歳以上"),1500,IF(AND(L7="一般",$B$2="定期順位戦",A7="C級"),1500,IF(AND(L7="一般",OR($B$2="竜王戦",$B$2="名人戦")),2500,IF(L7="一般",2000,"")))))) | Q7: 4
F8: =IF(E8="","",DATEDIF(E8,TODAY(),"Y")) | N8: =IF(L8="","",IF(L8="高校生以下",1000,IF(OR(L8="大学生",L8="身障者",L8="75歳以上"),1500,IF(AND(L8="一般",$B$2="定期順位戦",A8="C級"),1500,IF(AND(L8="一般",OR($B$2="竜王戦",$B$2="名人戦")),2500,IF(L8="一般",2000,"")))))) | Q8: 5
F9: =IF(E9="","",DATEDIF(E9,TODAY(),"Y")) | N9: =IF(L9="","",IF(L9="高校生以下",1000,IF(OR(L9="大学生",L9="身障者",L9="75歳以上"),1500,IF(AND(L9="一般",$B$2="定期順位戦",A9="C級"),1500,IF(AND(L9="一般",OR($B$2="竜王戦",$B$2="名人戦")),2500,IF(L9="一般",2000,"")))))) | Q9: 6
F10: =IF(E10="","",DATEDIF(E10,TODAY(),"Y")) | N10: =IF(L10="","",IF(L10="高校生以下",1000,IF(OR(L10="大学生",L10="身障者",L10="75歳以上"),1500,IF(AND(L10="一般",$B$2="定期順位戦",A10="C級"),1500,IF(AND(L10="一般",OR($B$2="竜王戦",$B$2="名人戦")),2500,IF(L10="一般",2000,"")))))) | Q10: 7
F11: =IF(E11="","",DATEDIF(E11,TODAY(),"Y")) | N11: =IF(L11="","",IF(L11="高校生以下",1000,IF(OR(L11="大学生",L11="身障者",L11="75歳以上"),1500,IF(AND(L11="一般",$B$2="定期順位戦",A11="C級"),1500,IF(AND(L11="一般",OR($B$2="竜王戦",$B$2="名人戦")),2500,IF(L11="一般",2000,"")))))) | Q11: 8
F12: =IF(E12="","",DATEDIF(E12,TODAY(),"Y")) | N12: =IF(L12="","",IF(L12="高校生以下",1000,IF(OR(L12="大学生",L12="身障者",L12="75歳以上"),1500,IF(AND(L12="一般",$B$2="定期順位戦",A12="C級"),1500,IF(AND(L12="一般",OR($B$2="竜王戦",$B$2="名人戦")),2500,IF(L12="一般",2000,"")))))) | Q12: 9
F13: =IF(E13="","",DATEDIF(E13,TODAY(),"Y")) | N13: =IF(L13="","",IF(L13="高校生以下",1000,IF(OR(L13="大学生",L13="身障者",L13="75歳以上"),1500,IF(AND(L13="一般",$B$2="定期順位戦",A13="C級"),1500,IF(AND(L13="一般",OR($B$2="竜王戦",$B$2="名人戦")),2500,IF(L13="一般",2000,"")))))) | Q13: 10
F14: =IF(E14="","",DATEDIF(E14,TODAY(),"Y")) | N14: =IF(L14="","",IF(L14="高校生以下",1000,IF(OR(L14="大学生",L14="身障者",L14="75歳以上"),1500,IF(AND(L14="一般",$B$2="定期順位戦",A14="C級"),1500,IF(AND(L14="一般",OR($B$2="竜王戦",$B$2="名人戦")),2500,IF(L14="一般",2000,"")))))) | Q14: 11
F15: =IF(E15="","",DATEDIF(E15,TODAY(),"Y")) | N15: =IF(L15="","",IF(L15="高校生以下",1000,IF(OR(L15="大学生",L15="身障者",L15="75歳以上"),1500,IF(AND(L15="一般",$B$2="定期順位戦",A15="C級"),1500,IF(AND(L15="一般",OR($B$2="竜王戦",$B$2="名人戦")),2500,IF(L15="一般",2000,"")))))) | Q15: 12
F16: =IF(E16="","",DATEDIF(E16,TODAY(),"Y")) | N16: =IF(L16="","",IF(L16="高校生以下",1000,IF(OR(L16="大学生",L16="身障者",L16="75歳以上"),1500,IF(AND(L16="一般",$B$2="定期順位戦",A16="C級"),1500,IF(AND(L16="一般",OR($B$2="竜王戦",$B$2="名人戦")),2500,IF(L16="一般",2000,"")))))) | Q16: 13
... F32: =IF(E32="","",DATEDIF(E32,TODAY(),"Y")) | N32: =IF(L32="","",IF(L32="高校生以下",1000,IF(OR(L32="大学生",L32="身障者",L32="75歳以上"),1500,IF(AND(L32="一般",$B$2="定期順位戦",A32="C級"),1500,IF(AND(L32="一般",OR($B$2="竜王戦",$B$2="名人戦")),2500,IF(L32="一般",2000,"")))))) | Q32: 30

Sheet 指導対局受付
B1: 指導対局受付名簿
A2: クラス | B2: お名前 | C2: フリガナ

Sheet 受付票
C1: 大会受付表
L2: 印字開始No. | M2: 1
A4: フリガナ | C4: =IFERROR(IF(INDEX(団体入力!$C$5:$C$32,$M$2)="","",INDEX(団体入力!$C$5:$C$32,$M$2)),"")
A5: 名前 | C5: =IFERROR(IF(INDEX(団体入力!$B$5:$B$32,$M$2)="","",INDEX(団体入力!$B$5:$B$32,$M$2)),"")
A6: 学校名 | C6: =IFERROR(IF(INDEX(団体入力!$J$5:$J$32,$M$2)="","",INDEX(団体入力!$J$5:$J$32,$M$2)),"") | G6: 生年月日 | I6: =IFERROR(IF(INDEX(団体入力!$E$5:$E$32,$M$2)="","",INDEX(団体入力!$E$5:$E$32,$M$2)),"")
A7: 住所 | C7: =IFERROR(IF(INDEX(団体入力!$H$5:$H$32,$M$2)="","",INDEX(団体入力!$H$5:$H$32,$M$2)),"") | G7: 棋力 | I7: =IFERROR(IF(INDEX(団体入力!$K$5:$K$32,$M$2)="","",INDEX(団体入力!$K$5:$K$32,$M$2)),"")
A8: 参加部門 | C8: =IFERROR(IF(INDEX(団体入力!$A$5:$A$32,$M$2)="","",INDEX(団体入力!$A$5:$A$32,$M$2)),"") | G8: 参加費 | I8: =IFERROR(IF(INDEX(団体入力!$N$5:$N$32,$M$2)="","",INDEX(団体入力!$N$5:$N$32,$M$2)),"")
A9: 保護者名 | C9: =IFERROR(IF(INDEX(団体入力!$O$5:$O$32,$M$2)="","",INDEX(団体入力!$O$5:$O$32,$M$2)),"") | G9: 連絡先 | I9: =IFERROR(IF(INDEX(団体入力!$D$5:$D$32,$M$2)="","",INDEX(団体入力!$D$5:$D$32,$M$2)),"")
A10: 受付メモ | G10: 年齢 | I10: =IFERROR(IF(INDEX(団体入力!$F$5:$F$32,$M$2)="","",INDEX(団体入力!$F$5:$F$32,$M$2)),"")
C11: =IFERROR("指導対局希望："&IF(INDEX(団体入力!$R$5:$R$32,$M$2)="","未入力",INDEX(団体入力!$R$5:$R$32,$M$2)),"") -> 指導対局希望：未入力
A14: ✂ | E14: 切り取り | J14: ✂
C16: 大会受付表
A19: フリガナ | C19: =IFERROR(IF(INDEX(団体入力!$C$5:$C$32,$M$2+1)="","",INDEX(団体入力!$C$5:$C$32,$M$2+1)),"")
A20: 名前 | C20: =IFERROR(IF(INDEX(団体入力!$B$5:$B$32,$M$2+1)="","",INDEX(団体入力!$B$5:$B$32,$M$2+1)),"")
A21: 学校名 | C21: =IFERROR(IF(INDEX(団体入力!$J$5:$J$32,$M$2+1)="","",INDEX(団体入力!$J$5:$J$32,$M$2+1)),"") | G21: 生年月日 | I21: =IFERROR(IF(INDEX(団体入力!$E$5:$E$32,$M$2+1)="","",INDEX(団体入力!$E$5:$E$32,$M$2+1)),"")
A22: 住所 | C22: =IFERROR(IF(INDEX(団体入力!$H$5:$H$32,$M$2+1)="","",INDEX(団体入力!$H$5:$H$32,$M$2+1)),"") | G22: 棋力 | I22: =IFERROR(IF(INDEX(団体入力!$K$5:$K$32,$M$2+1)="","",INDEX(団体入力!$K$5:$K$32,$M$2+1)),"")
A23: 参加部門 | C23: =IFERROR(IF(INDEX(団体入力!$A$5:$A$32,$M$2+1)="","",INDEX(団体入力!$A$5:$A$32,$M$2+1)),"") | G23: 参加費 | I23: =IFERROR(IF(INDEX(団体入力!$N$5:$N$32,$M$2+1)="","",INDEX(団体入力!$N$5:$N$32,$M$2+1)),"")
A24: 保護者名 | C24: =IFERROR(IF(INDEX(団体入力!$O$5:$O$32,$M$2+1)="","",INDEX(団体入力!$O$5:$O$32,$M$2+1)),"") | G24: 連絡先 | I24: =IFERROR(IF(INDEX(団体入力!$D$5:$D$32,$M$2+1)="","",INDEX(団体入力!$D$5:$D$32,$M$2+1)),"")
A25: 受付メモ | C25: =IFERROR(IF(INDEX(団体入力!$O$5:$O$32,$M$2+1)="","",INDEX(団体入力!$O$5:$O$32,$M$2+1)),"") | G25: 年齢 | I25: =IFERROR(IF(INDEX(団体入力!$F$5:$F$32,$M$2+1)="","",INDEX(団体入力!$F$5:$F$32,$M$2+1)),"")
C26: 指導対局受ける・受けない

Sheet 選択肢
A1: 大会種別 | B1: 料金区分 | C1: 順位戦クラス
A2: 通常大会 | B2: 高校生以下 | C2: C級
A3: 竜王戦 | B3: 大学生 | C3: その他
A4: 名人戦 | B4: 身障者
A5: 定期順位戦 | B5: 75歳以上
B6: 一般

Sheet 設定
A1: 参加部門設定
A2: この大会で使用する部門名を下に入力してください。団体入力の「参加部門」プルダウンに反映されます。
A4: 部門名
A5: 小学生名人戦
A6: 小学生初級者の部
A7: 小学生中級者の部
A8: 名人戦/竜王戦/支部名人戦
A9: A級
A10: B級
A11: C級
A12: S級
A13: 支部対抗戦A（団体戦代表戦）
... A15: 一般戦
