Workbook

Sheet 団体入力
B1: 団体受付名簿
B2: 通常大会 | Q2: 大会種別
A4: クラス | B4: お名前 | C4: フリガナ | D4: 電話番号 | E4: 生年月日 | F4: 年齢 | G4: 郵便番号 | H4: 住所 | I4: メールアドレス | J4: 学校名 | K4: 棋力 | L4: 料金区分 | M4: 順位戦クラス | N4: 参加費 | O4: 保護者氏名 | P4: 備考 | Q4: No.
A5: 小学生中級者の部 | F5: =IF(E5="","",DATEDIF(E5,TODAY(),"Y")) | K5: =IF(I5="","",IF(I5="高校生以下",1000,IF(OR(I5="大学生",I5="身障者",I5="75歳以上"),1500,IF(AND(I5="一般",$B$2="定期順位戦",J5="C級"),1500,IF(AND(I5="一般",OR($B$2="竜王戦",$B$2="名人戦")),2500,IF(I5="一般",2000,"")))))) | L5: 高校生以下 | N5: =IF(L5="","",IF(L5="高校生以下",1000,IF(OR(L5="大学生",L5="身障者",L5="75歳以上"),1500,IF(L5="一般",IF(OR($B$2="竜王戦",$B$2="名人戦"),2500,IF(A5="C級",1500,2000)),"")))) -> 1000 | Q5: 1
A6: 小学生中級者の部 | F6: =IF(E6="","",DATEDIF(E6,TODAY(),"Y")) | K6: =IF(I6="","",IF(I6="高校生以下",1000,IF(OR(I6="大学生",I6="身障者",I6="75歳以上"),1500,IF(AND(I6="一般",$B$2="定期順位戦",J6="C級"),1500,IF(AND(I6="一般",OR($B$2="竜王戦",$B$2="名人戦")),2500,IF(I6="一般",2000,"")))))) | L6: 高校生以下 | M6: その他 | N6: =IF(L6="","",IF(L6="高校生以下",1000,IF(OR(L6="大学生",L6="身障者",L6="75歳以上"),1500,IF(L6="一般",IF(OR($B$2="竜王戦",$B$2="名人戦"),2500,IF(A6="C級",1500,2000)),"")))) -> 1000 | Q6: 2
F7: =IF(E7="","",DATEDIF(E7,TODAY(),"Y")) | K7: =IF(I7="","",IF(I7="高校生以下",1000,IF(OR(I7="大学生",I7="身障者",I7="75歳以上"),1500,IF(AND(I7="一般",$B$2="定期順位戦",J7="C級"),1500,IF(AND(I7="一般",OR($B$2="竜王戦",$B$2="名人戦")),2500,IF(I7="一般",2000,"")))))) | N7: =IF(L7="","",IF(L7="高校生以下",1000,IF(OR(L7="大学生",L7="身障者",L7="75歳以上"),1500,IF(L7="一般",IF(OR($B$2="竜王戦",$B$2="名人戦"),2500,IF(A7="C級",1500,2000)),"")))) | Q7: 3
F8: =IF(E8="","",DATEDIF(E8,TODAY(),"Y")) | K8: =IF(I8="","",IF(I8="高校生以下",1000,IF(OR(I8="大学生",I8="身障者",I8="75歳以上"),1500,IF(AND(I8="一般",$B$2="定期順位戦",J8="C級"),1500,IF(AND(I8="一般",OR($B$2="竜王戦",$B$2="名人戦")),2500,IF(I8="一般",2000,"")))))) | N8: =IF(L8="","",IF(L8="高校生以下",1000,IF(OR(L8="大学生",L8="身障者",L8="75歳以上"),1500,IF(L8="一般",IF(OR($B$2="竜王戦",$B$2="名人戦"),2500,IF(A8="C級",1500,2000)),"")))) | Q8: 4
F9: =IF(E9="","",DATEDIF(E9,TODAY(),"Y")) | K9: =IF(I9="","",IF(I9="高校生以下",1000,IF(OR(I9="大学生",I9="身障者",I9="75歳以上"),1500,IF(AND(I9="一般",$B$2="定期順位戦",J9="C級"),1500,IF(AND(I9="一般",OR($B$2="竜王戦",$B$2="名人戦")),2500,IF(I9="一般",2000,"")))))) | N9: =IF(L9="","",IF(L9="高校生以下",1000,IF(OR(L9="大学生",L9="身障者",L9="75歳以上"),1500,IF(L9="一般",IF(OR($B$2="竜王戦",$B$2="名人戦"),2500,IF(A9="C級",1500,2000)),"")))) | Q9: 5
F10: =IF(E10="","",DATEDIF(E10,TODAY(),"Y")) | K10: =IF(I10="","",IF(I10="高校生以下",1000,IF(OR(I10="大学生",I10="身障者",I10="75歳以上"),1500,IF(AND(I10="一般",$B$2="定期順位戦",J10="C級"),1500,IF(AND(I10="一般",OR($B$2="竜王戦",$B$2="名人戦")),2500,IF(I10="一般",2000,"")))))) | N10: =IF(L10="","",IF(L10="高校生以下",1000,IF(OR(L10="大学生",L10="身障者",L10="75歳以上"),1500,IF(L10="一般",IF(OR($B$2="竜王戦",$B$2="名人戦"),2500,IF(A10="C級",1500,2000)),"")))) | Q10: 6
F11: =IF(E11="","",DATEDIF(E11,TODAY(),"Y")) | K11: =IF(I11="","",IF(I11="高校生以下",1000,IF(OR(I11="大学生",I11="身障者",I11="75歳以上"),1500,IF(AND(I11="一般",$B$2="定期順位戦",J11="C級"),1500,IF(AND(I11="一般",OR($B$2="竜王戦",$B$2="名人戦")),2500,IF(I11="一般",2000,"")))))) | N11: =IF(L11="","",IF(L11="高校生以下",1000,IF(OR(L11="大学生",L11="身障者",L11="75歳以上"),1500,IF(L11="一般",IF(OR($B$2="竜王戦",$B$2="名人戦"),2500,IF(A11="C級",1500,2000)),"")))) | Q11: 7
F12: =IF(E12="","",DATEDIF(E12,TODAY(),"Y")) | K12: =IF(I12="","",IF(I12="高校生以下",1000,IF(OR(I12="大学生",I12="身障者",I12="75歳以上"),1500,IF(AND(I12="一般",$B$2="定期順位戦",J12="C級"),1500,IF(AND(I12="一般",OR($B$2="竜王戦",$B$2="名人戦")),2500,IF(I12="一般",2000,"")))))) | N12: =IF(L12="","",IF(L12="高校生以下",1000,IF(OR(L12="大学生",L12="身障者",L12="75歳以上"),1500,IF(L12="一般",IF(OR($B$2="竜王戦",$B$2="名人戦"),2500,IF(A12="C級",1500,2000)),"")))) | Q12: 8
F13: =IF(E13="","",DATEDIF(E13,TODAY(),"Y")) | K13: =IF(I13="","",IF(I13="高校生以下",1000,IF(OR(I13="大学生",I13="身障者",I13="75歳以上"),1500,IF(AND(I13="一般",$B$2="定期順位戦",J13="C級"),1500,IF(AND(I13="一般",OR($B$2="竜王戦",$B$2="名人戦")),2500,IF(I13="一般",2000,"")))))) | N13: =IF(L13="","",IF(L13="高校生以下",1000,IF(OR(L13="大学生",L13="身障者",L13="75歳以上"),1500,IF(L13="一般",IF(OR($B$2="竜王戦",$B$2="名人戦"),2500,IF(A13="C級",1500,2000)),"")))) | Q13: 9
F14: =IF(E14="","",DATEDIF(E14,TODAY(),"Y")) | K14: =IF(I14="","",IF(I14="高校生以下",1000,IF(OR(I14="大学生",I14="身障者",I14="75歳以上"),1500,IF(AND(I14="一般",$B$2="定期順位戦",J14="C級"),1500,IF(AND(I14="一般",OR($B$2="竜王戦",$B$2="名人戦")),2500,IF(I14="一般",2000,"")))))) | N14: =IF(L14="","",IF(L14="高校生以下",1000,IF(OR(L14="大学生",L14="身障者",L14="75歳以上"),1500,IF(L14="一般",IF(OR($B$2="竜王戦",$B$2="名人戦"),2500,IF(A14="C級",1500,2000)),"")))) | Q14: 10
F15: =IF(E15="","",DATEDIF(E15,TODAY(),"Y")) | K15: =IF(I15="","",IF(I15="高校生以下",1000,IF(OR(I15="大学生",I15="身障者",I15="75歳以上"),1500,IF(AND(I15="一般",$B$2="定期順位戦",J15="C級"),1500,IF(AND(I15="一般",OR($B$2="竜王戦",$B$2="名人戦")),2500,IF(I15="一般",2000,"")))))) | N15: =IF(L15="","",IF(L15="高校生以下",1000,IF(OR(L15="大学生",L15="身障者",L15="75歳以上"),1500,IF(L15="一般",IF(OR($B$2="竜王戦",$B$2="名人戦"),2500,IF(A15="C級",1500,2000)),"")))) | Q15: 11
F16: =IF(E16="","",DATEDIF(E16,TODAY(),"Y")) | K16: =IF(I16="","",IF(I16="高校生以下",1000,IF(OR(I16="大学生",I16="身障者",I16="75歳以上"),1500,IF(AND(I16="一般",$B$2="定期順位戦",J16="C級"),1500,IF(AND(I16="一般",OR($B$2="竜王戦",$B$2="名人戦")),2500,IF(I16="一般",2000,"")))))) | N16: =IF(L16="","",IF(L16="高校生以下",1000,IF(OR(L16="大学生",L16="身障者",L16="75歳以上"),1500,IF(L16="一般",IF(OR($B$2="竜王戦",$B$2="名人戦"),2500,IF(A16="C級",1500,2000)),"")))) | Q16: 12
F17: =IF(E17="","",DATEDIF(E17,TODAY(),"Y")) | K17: =IF(I17="","",IF(I17="高校生以下",1000,IF(OR(I17="大学生",I17="身障者",I17="75歳以上"),1500,IF(AND(I17="一般",$B$2="定期順位戦",J17="C級"),1500,IF(AND(I17="一般",OR($B$2="竜王戦",$B$2="名人戦")),2500,IF(I17="一般",2000,"")))))) | N17: =IF(L17="","",IF(L17="高校生以下",1000,IF(OR(L17="大学生",L17="身障者",L17="75歳以上"),1500,IF(L17="一般",IF(OR($B$2="竜王戦",$B$2="名人戦"),2500,IF(A17="C級",1500,2000)),"")))) | Q17: 13
F18: =IF(E18="","",DATEDIF(E18,TODAY(),"Y")) | K18: =IF(I18="","",IF(I18="高校生以下",1000,IF(OR(I18="大学生",I18="身障者",I18="75歳以上"),1500,IF(AND(I18="一般",$B$2="定期順位戦",J18="C級"),1500,IF(AND(I18="一般",OR($B$2="竜王戦",$B$2="名人戦")),2500,IF(I18="一般",2000,"")))))) | N18: =IF(L18="","",IF(L18="高校生以下",1000,IF(OR(L18="大学生",L18="身障者",L18="75歳以上"),1500,IF(L18="一般",IF(OR($B$2="竜王戦",$B$2="名人戦"),2500,IF(A18="C級",1500,2000)),"")))) | Q18: 14
... F34: =IF(E34="","",DATEDIF(E34,TODAY(),"Y")) | K34: =IF(I34="","",IF(I34="高校生以下",1000,IF(OR(I34="大学生",I34="身障者",I34="75歳以上"),1500,IF(AND(I34="一般",$B$2="定期順位戦",J34="C級"),1500,IF(AND(I34="一般",OR($B$2="竜王戦",$B$2="名人戦")),2500,IF(I34="一般",2000,"")))))) | N34: =IF(L34="","",IF(L34="高校生以下",1000,IF(OR(L34="大学生",L34="身障者",L34="75歳以上"),1500,IF(L34="一般",IF(OR($B$2="竜王戦",$B$2="名人戦"),2500,IF(A34="C級",1500,2000)),"")))) | Q34: 30

Sheet 受付票
C1: 大会受付表
L2: 印字開始No. | M2: 1
L3: 1→No.1・2、3→No.3・4 | M3: 1→1・2、3→3・4
A4: フリガナ | C4: =IFERROR(IF(INDEX(団体入力!$C$5:$C$34,$M$2)="","",INDEX(団体入力!$C$5:$C$34,$M$2)),"")
A5: 名前 | C5: =IFERROR(IF(INDEX(団体入力!$B$5:$B$34,$M$2)="","",INDEX(団体入力!$B$5:$B$34,$M$2)),"")
A6: 学校名 | C6: =IFERROR(IF(INDEX(団体入力!$J$5:$J$34,$M$2)="","",INDEX(団体入力!$J$5:$J$34,$M$2)),"") | G6: 生年月日 | I6: =IFERROR(IF(INDEX(団体入力!$E$5:$E$34,$M$2)="","",INDEX(団体入力!$E$5:$E$34,$M$2)),"")
A7: 住所 | C7: =IFERROR(IF(INDEX(団体入力!$H$5:$H$34,$M$2)="","",INDEX(団体入力!$H$5:$H$34,$M$2)),"") | G7: 棋力 | I7: =IFERROR(IF(INDEX(団体入力!$K$5:$K$34,$M$2)="","",INDEX(団体入力!$K$5:$K$34,$M$2)),"")
A8: 参加部門 | C8: =IFERROR(IF(INDEX(団体入力!$A$5:$A$34,$M$2)="","",INDEX(団体入力!$A$5:$A$34,$M$2)),"") -> 小学生中級者の部 | G8: 参加費 | I8: =IFERROR(IF(INDEX(団体入力!$N$5:$N$34,$M$2)="","",INDEX(団体入力!$N$5:$N$34,$M$2)),"") -> 1000
A9: 保護者名 | C9: =IFERROR(IF(INDEX(団体入力!$O$5:$O$34,$M$2)="","",INDEX(団体入力!$O$5:$O$34,$M$2)),"") | G9: 連絡先 | I9: =IFERROR(IF(INDEX(団体入力!$D$5:$D$34,$M$2)="","",INDEX(団体入力!$D$5:$D$34,$M$2)),"")
A10: 受付メモ | G10: 年齢 | I10: =IFERROR(IF(INDEX(団体入力!$F$5:$F$34,$M$2)="","",INDEX(団体入力!$F$5:$F$34,$M$2)),"")
A14: ✂ | E14: 切り取り | J14: ✂
C16: 大会受付表
A19: フリガナ | C19: =IFERROR(IF(INDEX(団体入力!$C$5:$C$34,$M$2+1)="","",INDEX(団体入力!$C$5:$C$34,$M$2+1)),"")
A20: 名前 | C20: =IFERROR(IF(INDEX(団体入力!$B$5:$B$34,$M$2+1)="","",INDEX(団体入力!$B$5:$B$34,$M$2+1)),"")
A21: 学校名 | C21: =IFERROR(IF(INDEX(団体入力!$J$5:$J$34,$M$2+1)="","",INDEX(団体入力!$J$5:$J$34,$M$2+1)),"") | G21: 生年月日 | I21: =IFERROR(IF(INDEX(団体入力!$E$5:$E$34,$M$2+1)="","",INDEX(団体入力!$E$5:$E$34,$M$2+1)),"")
A22: 住所 | C22: =IFERROR(IF(INDEX(団体入力!$H$5:$H$34,$M$2+1)="","",INDEX(団体入力!$H$5:$H$34,$M$2+1)),"") | G22: 棋力 | I22: =IFERROR(IF(INDEX(団体入力!$K$5:$K$34,$M$2+1)="","",INDEX(団体入力!$K$5:$K$34,$M$2+1)),"")
A23: 参加部門 | C23: =IFERROR(IF(INDEX(団体入力!$A$5:$A$34,$M$2+1)="","",INDEX(団体入力!$A$5:$A$34,$M$2+1)),"") -> 小学生中級者の部 | G23: 参加費 | I23: =IFERROR(IF(INDEX(団体入力!$N$5:$N$34,$M$2+1)="","",INDEX(団体入力!$N$5:$N$34,$M$2+1)),"") -> 1000
A24: 保護者名 | C24: =IFERROR(IF(INDEX(団体入力!$O$5:$O$34,$M$2+1)="","",INDEX(団体入力!$O$5:$O$34,$M$2+1)),"") | G24: 連絡先 | I24: =IFERROR(IF(INDEX(団体入力!$D$5:$D$34,$M$2+1)="","",INDEX(団体入力!$D$5:$D$34,$M$2+1)),"")
A25: 受付メモ | C25: =IFERROR(IF(INDEX(団体入力!$O$5:$O$34,$M$2+1)="","",INDEX(団体入力!$O$5:$O$34,$M$2+1)),"") | G25: 年齢 | I25: =IFERROR(IF(INDEX(団体入力!$F$5:$F$34,$M$2+1)="","",INDEX(団体入力!$F$5:$F$34,$M$2+1)),"")

Sheet 選択肢
A1: 大会種別 | B1: 料金区分 | C1: 順位戦クラス
A2: 通常大会 | B2: 高校生以下 | C2: C級
A3: 竜王戦 | B3: 大学生 | C3: その他
A4: 名人戦 | B4: 身障者
A5: 定期順位戦 | B5: 75歳以上
B6: 一般

Sheet 設定
A1: 参加部門設定
A2: この大会で使用する部門名を下に入力してください。団体入力の「参加部門」プルダウンに反映されます。
A4: 部門名
A5: 小学生名人戦
A6: 小学生初級者の部
A7: 小学生中級者の部
A8: 名人戦/竜王戦/支部名人戦
A9: A級
A10: B級
A11: C級
A12: S級
A13: 支部対抗戦A（団体戦代表戦）
A14: 支部対抗戦B
